BEGIN:VCALENDAR
VERSION:2.0
PRODID:-//Sabre//Sabre VObject 4.5.8//EN
CALSCALE:GREGORIAN
BEGIN:VEVENT
UID:criticalmass-one-neuwied-1711728000
DTSTAMP:20260424T041305Z
SUMMARY:Critical Mass Neuwied 29.03.2024
DTSTART;TZID=Europe/Berlin:20240329T170000
DTEND;TZID=Europe/Berlin:20240329T190000
LOCATION:Langendorfer Str. 100
GEO:50.430475;7.458429
URL;VALUE=URI:https://criticalmass.in/neuwied/2024-03-29
END:VEVENT
END:VCALENDAR
