BEGIN:VCALENDAR
VERSION:2.0
PRODID:-//Sabre//Sabre VObject 4.5.8//EN
CALSCALE:GREGORIAN
BEGIN:VEVENT
UID:criticalmass-one-neuwied-1692975600
DTSTAMP:20260424T041419Z
SUMMARY:Critical Mass Neuwied 25.08.2023
DTSTART;TZID=Europe/Berlin:20230825T170000
DTEND;TZID=Europe/Berlin:20230825T190000
LOCATION:Langendorfer Str. 100
GEO:50.430475;7.458429
URL;VALUE=URI:https://criticalmass.in/neuwied/2023-08-25
END:VEVENT
END:VCALENDAR
