BEGIN:VCALENDAR
VERSION:2.0
PRODID:-//Sabre//Sabre VObject 4.5.8//EN
CALSCALE:GREGORIAN
BEGIN:VEVENT
UID:criticalmass-one-neuwied-1690556400
DTSTAMP:20260424T041333Z
SUMMARY:Critical Mass Neuwied 28.07.2023
DTSTART;TZID=Europe/Berlin:20230728T170000
DTEND;TZID=Europe/Berlin:20230728T190000
LOCATION:Langendorfer Str. 100
GEO:50.430475;7.458429
URL;VALUE=URI:https://criticalmass.in/neuwied/2023-07-28
END:VEVENT
END:VCALENDAR
