BEGIN:VCALENDAR
VERSION:2.0
PRODID:-//Sabre//Sabre VObject 4.5.8//EN
CALSCALE:GREGORIAN
BEGIN:VEVENT
UID:criticalmass-one-neuwied-1688137200
DTSTAMP:20260424T192657Z
SUMMARY:Critical Mass Neuwied 30.06.2023
DTSTART;TZID=Europe/Berlin:20230630T170000
DTEND;TZID=Europe/Berlin:20230630T190000
LOCATION:Langendorfer Str. 100
GEO:50.430475;7.458429
URL;VALUE=URI:https://criticalmass.in/neuwied/2023-06-30
END:VEVENT
END:VCALENDAR
