BEGIN:VCALENDAR
VERSION:2.0
PRODID:-//Sabre//Sabre VObject 4.5.8//EN
CALSCALE:GREGORIAN
BEGIN:VEVENT
UID:criticalmass-one-neuwied-1685113200
DTSTAMP:20260424T181005Z
SUMMARY:Critical Mass Neuwied 26.05.2023
DTSTART;TZID=Europe/Berlin:20230526T170000
DTEND;TZID=Europe/Berlin:20230526T190000
LOCATION:Langendorfer Str. 100
GEO:50.430475;7.458429
URL;VALUE=URI:https://criticalmass.in/neuwied/2023-05-26
END:VEVENT
END:VCALENDAR
