BEGIN:VCALENDAR
VERSION:2.0
PRODID:-//Sabre//Sabre VObject 4.5.8//EN
CALSCALE:GREGORIAN
BEGIN:VEVENT
UID:criticalmass-one-neuss-1632056400
DTSTAMP:20260424T180124Z
SUMMARY:Kidical Mass Neuss 19.09.2021
DTSTART;TZID=Europe/Berlin:20210919T150000
DTEND;TZID=Europe/Berlin:20210919T170000
LOCATION:Marienkirchplatz\, Nordseite gegenüber Hbf
URL;VALUE=URI:https://criticalmass.in/neuss/kidical-mass-neuss-september-20
 21
END:VEVENT
END:VCALENDAR
