BEGIN:VCALENDAR
VERSION:2.0
PRODID:-//Sabre//Sabre VObject 4.5.8//EN
CALSCALE:GREGORIAN
BEGIN:VEVENT
UID:criticalmass-one-neuss-1774026000
DTSTAMP:20260424T121525Z
SUMMARY:Critical Neuss 20.03.2026
DTSTART;TZID=Europe/Berlin:20260320T180000
DTEND;TZID=Europe/Berlin:20260320T200000
LOCATION:Sebastianusstraße
GEO:51.198813;6.689284
URL;VALUE=URI:https://criticalmass.in/neuss/2026-03-20
END:VEVENT
END:VCALENDAR
