BEGIN:VCALENDAR
VERSION:2.0
PRODID:-//Sabre//Sabre VObject 4.5.8//EN
CALSCALE:GREGORIAN
BEGIN:VEVENT
UID:criticalmass-one-neuss-1721404800
DTSTAMP:20260422T080218Z
SUMMARY:Critical Neuss 19.07.2024
DTSTART;TZID=Europe/Berlin:20240719T180000
DTEND;TZID=Europe/Berlin:20240719T200000
LOCATION:Sebastianusstraße
GEO:51.198813;6.689284
URL;VALUE=URI:https://criticalmass.in/neuss/2024-07-19
END:VEVENT
END:VCALENDAR
