BEGIN:VCALENDAR
VERSION:2.0
PRODID:-//Sabre//Sabre VObject 4.5.8//EN
CALSCALE:GREGORIAN
BEGIN:VEVENT
UID:criticalmass-one-neuss-1710522000
DTSTAMP:20260424T105853Z
SUMMARY:Critical Neuss 15.03.2024
DTSTART;TZID=Europe/Berlin:20240315T180000
DTEND;TZID=Europe/Berlin:20240315T200000
LOCATION:Sebastianusstraße
GEO:51.198813;6.689284
URL;VALUE=URI:https://criticalmass.in/neuss/2024-03-15
END:VEVENT
END:VCALENDAR
