BEGIN:VCALENDAR
VERSION:2.0
PRODID:-//Sabre//Sabre VObject 4.5.8//EN
CALSCALE:GREGORIAN
BEGIN:VEVENT
UID:criticalmass-one-neuss-1694793600
DTSTAMP:20260422T230633Z
SUMMARY:Critical Neuss 15.09.2023
DTSTART;TZID=Europe/Berlin:20230915T180000
DTEND;TZID=Europe/Berlin:20230915T200000
LOCATION:Sebastianusstraße
GEO:51.198813;6.689284
URL;VALUE=URI:https://criticalmass.in/neuss/2023-09-15
END:VEVENT
END:VCALENDAR
