BEGIN:VCALENDAR
VERSION:2.0
PRODID:-//Sabre//Sabre VObject 4.5.8//EN
CALSCALE:GREGORIAN
BEGIN:VEVENT
UID:criticalmass-one-neuss-1674234000
DTSTAMP:20260425T151913Z
SUMMARY:Critical Neuss 20.01.2023
DTSTART;TZID=Europe/Berlin:20230120T180000
DTEND;TZID=Europe/Berlin:20230120T200000
LOCATION:Sebastianusstraße
GEO:51.198813;6.689284
URL;VALUE=URI:https://criticalmass.in/neuss/2023-01-20
END:VEVENT
END:VCALENDAR
