BEGIN:VCALENDAR
VERSION:2.0
PRODID:-//Sabre//Sabre VObject 4.5.8//EN
CALSCALE:GREGORIAN
BEGIN:VEVENT
UID:criticalmass-one-neuss-1558112400
DTSTAMP:20260425T145134Z
SUMMARY:Critical Mass Neuss 17.05.2019
DTSTART;TZID=Europe/Berlin:20190517T190000
DTEND;TZID=Europe/Berlin:20190517T210000
LOCATION:Hamtorplatz Treffpunkt 18:30 Uhr
URL;VALUE=URI:https://criticalmass.in/neuss/2019-05-17
END:VEVENT
END:VCALENDAR
