BEGIN:VCALENDAR
VERSION:2.0
PRODID:-//Sabre//Sabre VObject 4.5.8//EN
CALSCALE:GREGORIAN
BEGIN:VEVENT
UID:criticalmass-one-nehren-1761930000
DTSTAMP:20260424T100812Z
SUMMARY:Critical Mass Nehren 31.10.2025
DTSTART;TZID=Europe/Berlin:20251031T180000
DTEND;TZID=Europe/Berlin:20251031T200000
URL;VALUE=URI:https://criticalmass.in/nehren/2025-10-31
END:VEVENT
END:VCALENDAR
