BEGIN:VCALENDAR
VERSION:2.0
PRODID:-//Sabre//Sabre VObject 4.5.8//EN
CALSCALE:GREGORIAN
BEGIN:VEVENT
UID:criticalmass-one-nehren-1756483200
DTSTAMP:20260424T121629Z
SUMMARY:Critical Mass Nehren 29.08.2025
DTSTART;TZID=Europe/Berlin:20250829T180000
DTEND;TZID=Europe/Berlin:20250829T200000
URL;VALUE=URI:https://criticalmass.in/nehren/2025-08-29
END:VEVENT
END:VCALENDAR
