BEGIN:VCALENDAR
VERSION:2.0
PRODID:-//Sabre//Sabre VObject 4.5.8//EN
CALSCALE:GREGORIAN
BEGIN:VEVENT
UID:criticalmass-one-nehren-1740762000
DTSTAMP:20260423T101152Z
SUMMARY:Critical Mass Nehren 28.02.2025
DTSTART;TZID=Europe/Berlin:20250228T180000
DTEND;TZID=Europe/Berlin:20250228T200000
URL;VALUE=URI:https://criticalmass.in/nehren/2025-02-28
END:VEVENT
END:VCALENDAR
