BEGIN:VCALENDAR
VERSION:2.0
PRODID:-//Sabre//Sabre VObject 4.5.8//EN
CALSCALE:GREGORIAN
BEGIN:VEVENT
UID:criticalmass-one-nehren-1692979200
DTSTAMP:20260424T122603Z
SUMMARY:Critical Mass Nehren 25.08.2023
DTSTART;TZID=Europe/Berlin:20230825T180000
DTEND;TZID=Europe/Berlin:20230825T200000
URL;VALUE=URI:https://criticalmass.in/nehren/2023-08-25
END:VEVENT
END:VCALENDAR
