BEGIN:VCALENDAR
VERSION:2.0
PRODID:-//Sabre//Sabre VObject 4.5.8//EN
CALSCALE:GREGORIAN
BEGIN:VEVENT
UID:criticalmass-one-nehren-1630080000
DTSTAMP:20260423T204353Z
SUMMARY:Critical Mass Nehren 27.08.2021
DTSTART;TZID=Europe/Berlin:20210827T180000
DTEND;TZID=Europe/Berlin:20210827T200000
URL;VALUE=URI:https://criticalmass.in/nehren/2021-08-27
END:VEVENT
END:VCALENDAR
