BEGIN:VCALENDAR
VERSION:2.0
PRODID:-//Sabre//Sabre VObject 4.5.8//EN
CALSCALE:GREGORIAN
BEGIN:VEVENT
UID:criticalmass-one-nehren-1550854800
DTSTAMP:20260425T181215Z
SUMMARY:Critical Mass Nehren 22.02.2019
DTSTART;TZID=Europe/Berlin:20190222T180000
DTEND;TZID=Europe/Berlin:20190222T200000
URL;VALUE=URI:https://criticalmass.in/nehren/2019-02-22
END:VEVENT
END:VCALENDAR
