BEGIN:VCALENDAR
VERSION:2.0
PRODID:-//Sabre//Sabre VObject 4.5.8//EN
CALSCALE:GREGORIAN
BEGIN:VEVENT
UID:criticalmass-one-mulheim-an-der-ruhr-1664019900
DTSTAMP:20260424T062948Z
SUMMARY:Kidical Mass Mülheim an der Ruhr 24.09.2022
DTSTART;TZID=Europe/Berlin:20220924T134500
DTEND;TZID=Europe/Berlin:20220924T154500
LOCATION:Heißen Kirche (Marktplatz)
URL;VALUE=URI:https://criticalmass.in/mulheim-an-der-ruhr/kidical-mass-mulh
 eim-an-der-ruhr-september-2022
END:VEVENT
END:VCALENDAR
