BEGIN:VCALENDAR
VERSION:2.0
PRODID:-//Sabre//Sabre VObject 4.5.8//EN
CALSCALE:GREGORIAN
BEGIN:VEVENT
UID:criticalmass-one-mulheim-an-der-ruhr-1728208800
DTSTAMP:20260424T001417Z
SUMMARY:Kidical Mass Mülheim an der Ruhr 06.10.2024
DTSTART;TZID=Europe/Berlin:20241006T120000
DTEND;TZID=Europe/Berlin:20241006T140000
LOCATION:Mülheim an der Ruhr Kurt-Schumacher-Platz
GEO:51.429255;6.884650
URL;VALUE=URI:https://criticalmass.in/mulheim-an-der-ruhr/kidical-mass-mulh
 eim-an-der-ruhr-oktober-2024
END:VEVENT
END:VCALENDAR
