BEGIN:VCALENDAR
VERSION:2.0
PRODID:-//Sabre//Sabre VObject 4.5.8//EN
CALSCALE:GREGORIAN
BEGIN:VEVENT
UID:criticalmass-one-mulheim-an-der-ruhr-1754929800
DTSTAMP:20260424T124305Z
SUMMARY:Critical Mass Mülheim 11.08.2025
DTSTART;TZID=Europe/Berlin:20250811T183000
DTEND;TZID=Europe/Berlin:20250811T203000
LOCATION:Hauptbahnhof
GEO:51.427451;6.880338
URL;VALUE=URI:https://criticalmass.in/mulheim-an-der-ruhr/2025-08-11
END:VEVENT
END:VCALENDAR
