BEGIN:VCALENDAR
VERSION:2.0
PRODID:-//Sabre//Sabre VObject 4.5.8//EN
CALSCALE:GREGORIAN
BEGIN:VEVENT
UID:criticalmass-one-mulheim-an-der-ruhr-1731346200
DTSTAMP:20260425T223436Z
SUMMARY:Critical Mass Mülheim 11.11.2024
DTSTART;TZID=Europe/Berlin:20241111T183000
DTEND;TZID=Europe/Berlin:20241111T203000
LOCATION:Hauptbahnhof
GEO:51.427451;6.880338
URL;VALUE=URI:https://criticalmass.in/mulheim-an-der-ruhr/2024-11-11
END:VEVENT
END:VCALENDAR
