BEGIN:VCALENDAR
VERSION:2.0
PRODID:-//Sabre//Sabre VObject 4.5.8//EN
CALSCALE:GREGORIAN
BEGIN:VEVENT
UID:criticalmass-one-mulheim-an-der-ruhr-1715617800
DTSTAMP:20260424T180208Z
SUMMARY:Critical Mass Mülheim 13.05.2024
DTSTART;TZID=Europe/Berlin:20240513T183000
DTEND;TZID=Europe/Berlin:20240513T203000
LOCATION:Hauptbahnhof
GEO:51.427451;6.880338
URL;VALUE=URI:https://criticalmass.in/mulheim-an-der-ruhr/2024-05-13
END:VEVENT
END:VCALENDAR
