BEGIN:VCALENDAR
VERSION:2.0
PRODID:-//Sabre//Sabre VObject 4.5.8//EN
CALSCALE:GREGORIAN
BEGIN:VEVENT
UID:criticalmass-one-mulheim-an-der-ruhr-1702315800
DTSTAMP:20260424T114149Z
SUMMARY:Critical Mass Mülheim 11.12.2023
DTSTART;TZID=Europe/Berlin:20231211T183000
DTEND;TZID=Europe/Berlin:20231211T203000
LOCATION:Hauptbahnhof
GEO:51.427451;6.880338
URL;VALUE=URI:https://criticalmass.in/mulheim-an-der-ruhr/2023-12-11
END:VEVENT
END:VCALENDAR
