BEGIN:VCALENDAR
VERSION:2.0
PRODID:-//Sabre//Sabre VObject 4.5.8//EN
CALSCALE:GREGORIAN
BEGIN:VEVENT
UID:criticalmass-one-mulheim-an-der-ruhr-1641835800
DTSTAMP:20260424T121739Z
SUMMARY:Critical Mass Mülheim 10.01.2022
DTSTART;TZID=Europe/Berlin:20220110T183000
DTEND;TZID=Europe/Berlin:20220110T203000
LOCATION:Hauptbahnhof
GEO:51.427451;6.880338
URL;VALUE=URI:https://criticalmass.in/mulheim-an-der-ruhr/2022-01-10
END:VEVENT
END:VCALENDAR
