BEGIN:VCALENDAR
VERSION:2.0
PRODID:-//Sabre//Sabre VObject 4.5.8//EN
CALSCALE:GREGORIAN
BEGIN:VEVENT
UID:criticalmass-one-mulheim-an-der-ruhr-1586795400
DTSTAMP:20260423T222332Z
SUMMARY:11. Critical Mass Mülheim
DTSTART;TZID=Europe/Berlin:20200413T183000
DTEND;TZID=Europe/Berlin:20200413T203000
LOCATION:Hauptbahnhof
GEO:51.427451;6.880338
URL;VALUE=URI:https://criticalmass.in/mulheim-an-der-ruhr/2020-04-13
END:VEVENT
END:VCALENDAR
