BEGIN:VCALENDAR
VERSION:2.0
PRODID:-//Sabre//Sabre VObject 4.5.8//EN
CALSCALE:GREGORIAN
BEGIN:VEVENT
UID:criticalmass-one-mulheim-an-der-ruhr-1562603400
DTSTAMP:20260425T215025Z
SUMMARY:1. Critical Mass Mülheim an der Ruhr
DESCRIPTION:sehr schade\, ich war nicht dabei....
DTSTART;TZID=Europe/Berlin:20190708T183000
DTEND;TZID=Europe/Berlin:20190708T203000
LOCATION:Hauptbahnhof
GEO:51.427451;6.880338
URL;VALUE=URI:https://criticalmass.in/mulheim-an-der-ruhr/2019-07-08
END:VEVENT
END:VCALENDAR
