BEGIN:VCALENDAR
VERSION:2.0
PRODID:-//Sabre//Sabre VObject 4.5.8//EN
CALSCALE:GREGORIAN
BEGIN:VEVENT
UID:criticalmass-one-moscow-1769886000
DTSTAMP:20260422T124048Z
SUMMARY:Alex Pretti Memorial Ride — Moscow Area Mountain Bike Association
  (MAMBA)
DESCRIPTION:11 a.m. at the skate park\, family-friendly route\, 2-ish flat 
 miles.
DTSTART;TZID=America/Los_Angeles:20260131T110000
DTEND;TZID=America/Los_Angeles:20260131T130000
LOCATION:skate park\, Moscow
GEO:46.739241;-116.975539
URL;VALUE=URI:https://criticalmass.in/moscow/alex-pretti-memorial-ride-mosc
 ow-2026-01-31
END:VEVENT
END:VCALENDAR
