BEGIN:VCALENDAR
VERSION:2.0
PRODID:-//Sabre//Sabre VObject 4.5.8//EN
CALSCALE:GREGORIAN
BEGIN:VEVENT
UID:criticalmass-one-morse-township-1769887800
DTSTAMP:20260423T190806Z
SUMMARY:Alex Pretti Memorial Ride — Kate Batten
DESCRIPTION:Meet at Van Vac Rd Boat Landing at 1:30pm to ride the Burntside
  Lake Ice Road in honor and memory of Alex.
DTSTART;TZID=America/Chicago:20260131T133000
DTEND;TZID=America/Chicago:20260131T153000
LOCATION:Van Vac Rd Boat Landing\, Morse Township
GEO:47.920167;-91.974112
URL;VALUE=URI:https://criticalmass.in/morse-township/alex-pretti-memorial-r
 ide-morse-township-2026-01-31
END:VEVENT
END:VCALENDAR
