BEGIN:VCALENDAR
VERSION:2.0
PRODID:-//Sabre//Sabre VObject 4.5.8//EN
CALSCALE:GREGORIAN
BEGIN:VEVENT
UID:criticalmass-one-morfelden-walldorf-1683460800
DTSTAMP:20260423T005013Z
SUMMARY:Kidical Mass Mörfelden-Walldorf 07.05.2023
DTSTART;TZID=Europe/Berlin:20230507T140000
DTEND;TZID=Europe/Berlin:20230507T160000
LOCATION:Evangelische Kirche\, Ludwigstr. 64
GEO:50.001813;8.573755
URL;VALUE=URI:https://criticalmass.in/morfelden-walldorf/kidical-mass-morfe
 lden-walldorf-mai-2023
END:VEVENT
END:VCALENDAR
