BEGIN:VCALENDAR
VERSION:2.0
PRODID:-//Sabre//Sabre VObject 4.5.8//EN
CALSCALE:GREGORIAN
BEGIN:VEVENT
UID:criticalmass-one-morfelden-walldorf-1758457800
DTSTAMP:20260423T190302Z
SUMMARY:Kidical Mass
DESCRIPTION:Am 21. September 2025 findet in Mörfelden-Walldorf eine große
  Familien-Fahrraddemo des ADFC Kreis Groß-Gerau statt. Unter dem Motto 
 „Straßen sind für alle da“ ist für die sogenannte Kidical Mass um 1
 4.30 Uhr Uhr Treffpunkt an der Bertha-von-Suttner-Schule. Nach einer Anspr
 ache und organisatorischen Hinweisen ist gegen 15.00 Uhr Abfahrt. Die Stre
 cke durch Mörfelden ist rund vier Kilometer lang und endet gegen 16.00 Uh
 r am Familienzentrum in Mörfelden. Dort ist Ausklang und Raum für Gespr
 äche bei Kaffee und Kuchen. Kinder erwartet dort ein Roller- und Fahrradp
 arcours.
DTSTART;TZID=Europe/Berlin:20250921T143000
DTEND;TZID=Europe/Berlin:20250921T163000
LOCATION:Bertha-von-Suttner-Schule Mörfelden-Walldorf
GEO:49.988539;8.566847
URL;VALUE=URI:https://criticalmass.in/morfelden-walldorf/2025-09-21
END:VEVENT
END:VCALENDAR
