BEGIN:VCALENDAR
VERSION:2.0
PRODID:-//Sabre//Sabre VObject 4.5.8//EN
CALSCALE:GREGORIAN
BEGIN:VEVENT
UID:criticalmass-one-moenchengladbach-1717174860
DTSTAMP:20260424T100513Z
SUMMARY:Critical Mass MG-Actiontown 31.05.2024
DTSTART;TZID=Europe/Berlin:20240531T190100
DTEND;TZID=Europe/Berlin:20240531T210100
LOCATION:Schillerplatz Mönchengladbach
GEO:51.199193;6.442881
URL;VALUE=URI:https://criticalmass.in/moenchengladbach/2024-05-31
END:VEVENT
END:VCALENDAR
