BEGIN:VCALENDAR
VERSION:2.0
PRODID:-//Sabre//Sabre VObject 4.5.8//EN
CALSCALE:GREGORIAN
BEGIN:VEVENT
UID:criticalmass-one-minden-1672416000
DTSTAMP:20260424T134651Z
SUMMARY:Critical Mass Minden 30.12.2022
DTSTART;TZID=Europe/Berlin:20221230T170000
DTEND;TZID=Europe/Berlin:20221230T190000
LOCATION:Schwanenteich
GEO:52.286734;8.919278
URL;VALUE=URI:https://criticalmass.in/minden/2022-12-30
END:VEVENT
END:VCALENDAR
