BEGIN:VCALENDAR
VERSION:2.0
PRODID:-//Sabre//Sabre VObject 4.5.8//EN
CALSCALE:GREGORIAN
BEGIN:VEVENT
UID:criticalmass-one-minden-1666969200
DTSTAMP:20260423T192250Z
SUMMARY:Critical Mass Minden 28.10.2022
DTSTART;TZID=Europe/Berlin:20221028T170000
DTEND;TZID=Europe/Berlin:20221028T190000
LOCATION:Schwanenteich
GEO:52.286734;8.919278
URL;VALUE=URI:https://criticalmass.in/minden/2022-10-28
END:VEVENT
END:VCALENDAR
