BEGIN:VCALENDAR
VERSION:2.0
PRODID:-//Sabre//Sabre VObject 4.5.8//EN
CALSCALE:GREGORIAN
BEGIN:VEVENT
UID:criticalmass-one-minden-1659106800
DTSTAMP:20260424T022042Z
SUMMARY:Critical Mass Minden 29.07.2022
DTSTART;TZID=Europe/Berlin:20220729T170000
DTEND;TZID=Europe/Berlin:20220729T190000
LOCATION:Schwanenteich
GEO:52.286734;8.919278
URL;VALUE=URI:https://criticalmass.in/minden/2022-07-29
END:VEVENT
END:VCALENDAR
