BEGIN:VCALENDAR
VERSION:2.0
PRODID:-//Sabre//Sabre VObject 4.5.8//EN
CALSCALE:GREGORIAN
BEGIN:VEVENT
UID:criticalmass-one-minden-1656082800
DTSTAMP:20260423T234220Z
SUMMARY:Critical Mass Minden 24.06.2022
DTSTART;TZID=Europe/Berlin:20220624T170000
DTEND;TZID=Europe/Berlin:20220624T190000
LOCATION:Schwanenteich
GEO:52.286734;8.919278
URL;VALUE=URI:https://criticalmass.in/minden/2022-06-24
END:VEVENT
END:VCALENDAR
