BEGIN:VCALENDAR
VERSION:2.0
PRODID:-//Sabre//Sabre VObject 4.5.8//EN
CALSCALE:GREGORIAN
BEGIN:VEVENT
UID:criticalmass-one-minden-1653663600
DTSTAMP:20260425T194912Z
SUMMARY:Critical Mass Minden 27.05.2022
DTSTART;TZID=Europe/Berlin:20220527T170000
DTEND;TZID=Europe/Berlin:20220527T190000
LOCATION:Schwanenteich
GEO:52.286734;8.919278
URL;VALUE=URI:https://criticalmass.in/minden/2022-05-27
END:VEVENT
END:VCALENDAR
