BEGIN:VCALENDAR
VERSION:2.0
PRODID:-//Sabre//Sabre VObject 4.5.8//EN
CALSCALE:GREGORIAN
BEGIN:VEVENT
UID:criticalmass-one-milano-1774634400
DTSTAMP:20260424T030834Z
SUMMARY:Critical Mass Milano 27.03.2026
DTSTART;TZID=Europe/Berlin:20260327T190000
DTEND;TZID=Europe/Berlin:20260327T210000
LOCATION:Piazza Sicilia
GEO:45.464474;9.152699
URL;VALUE=URI:https://criticalmass.in/milano/2026-03-27
END:VEVENT
END:VCALENDAR
