BEGIN:VCALENDAR
VERSION:2.0
PRODID:-//Sabre//Sabre VObject 4.5.8//EN
CALSCALE:GREGORIAN
BEGIN:VEVENT
UID:criticalmass-one-marseille-1651926600
DTSTAMP:20260422T054748Z
SUMMARY:Kidical Mass Marseille (FR) 07.05.2022
DTSTART;TZID=Europe/Berlin:20220507T143000
DTEND;TZID=Europe/Berlin:20220507T163000
LOCATION:Place Jean Jaurès
GEO:43.294950;5.386133
URL;VALUE=URI:https://criticalmass.in/marseille/kidical-mass-marseille-mai-
 2022
END:VEVENT
END:VCALENDAR
