BEGIN:VCALENDAR
VERSION:2.0
PRODID:-//Sabre//Sabre VObject 4.5.8//EN
CALSCALE:GREGORIAN
BEGIN:VEVENT
UID:criticalmass-one-marburg-1714813200
DTSTAMP:20260423T014902Z
SUMMARY:Kidical Mass Marburg 04.05.2024
DTSTART;TZID=Europe/Berlin:20240504T110000
DTEND;TZID=Europe/Berlin:20240504T130000
LOCATION:Marburg Elisabeth-Blochmann-Platz
GEO:50.807890;8.774901
URL;VALUE=URI:https://criticalmass.in/marburg/kidical-mass-marburg-mai-2024
END:VEVENT
END:VCALENDAR
