BEGIN:VCALENDAR
VERSION:2.0
PRODID:-//Sabre//Sabre VObject 4.5.8//EN
CALSCALE:GREGORIAN
BEGIN:VEVENT
UID:criticalmass-one-marburg-1748077200
DTSTAMP:20260423T074811Z
SUMMARY:Kidical mass
DESCRIPTION:2 mal im Jahr gibts die Kidical Mass ... die Critical Mass für
  die Kids   einr Runde auf den Strassen durch Marburg! Grade für unsere K
 ids sind sichere Verkehrsbedingungen wichtig! Und wir wollen auch die klei
 nsten Verkehrsteilnehmer sichtbar machen.
DTSTART;TZID=Europe/Berlin:20250524T110000
DTEND;TZID=Europe/Berlin:20250524T130000
LOCATION:Blochmann Platz
GEO:50.808132;8.775009
URL;VALUE=URI:https://criticalmass.in/marburg/2025-05-24
END:VEVENT
END:VCALENDAR
