BEGIN:VCALENDAR
VERSION:2.0
PRODID:-//Sabre//Sabre VObject 4.5.8//EN
CALSCALE:GREGORIAN
BEGIN:VEVENT
UID:criticalmass-one-marburg-1747321200
DTSTAMP:20260424T092331Z
SUMMARY:Critical Mass Marburg
DTSTART;TZID=Europe/Berlin:20250515T170000
DTEND;TZID=Europe/Berlin:20250515T190000
LOCATION:Firmaneiplatz\, Marburg
GEO:50.814949;8.770678
URL;VALUE=URI:https://criticalmass.in/marburg/2025-05-15
END:VEVENT
END:VCALENDAR
