BEGIN:VCALENDAR
VERSION:2.0
PRODID:-//Sabre//Sabre VObject 4.5.8//EN
CALSCALE:GREGORIAN
BEGIN:VEVENT
UID:criticalmass-one-mannheim-1664112600
DTSTAMP:20260422T190229Z
SUMMARY:Kidical Mass Mannheim 25.09.2022
DTSTART;TZID=Europe/Berlin:20220925T153000
DTEND;TZID=Europe/Berlin:20220925T173000
LOCATION:Wasserturm
GEO:49.484050;8.475611
URL;VALUE=URI:https://criticalmass.in/mannheim/kidical-mass-mannheim-septem
 ber-2022
END:VEVENT
END:VCALENDAR
