BEGIN:VCALENDAR
VERSION:2.0
PRODID:-//Sabre//Sabre VObject 4.5.8//EN
CALSCALE:GREGORIAN
BEGIN:VEVENT
UID:criticalmass-one-mannheim-1600608600
DTSTAMP:20260422T202758Z
SUMMARY:Kidical Mass Mannheim
DTSTART;TZID=Europe/Berlin:20200920T153000
DTEND;TZID=Europe/Berlin:20200920T173000
LOCATION:Wasserturm
GEO:49.484056;8.475605
URL;VALUE=URI:https://criticalmass.in/mannheim/kidical-mass-mannheim-septem
 ber-2020
END:VEVENT
END:VCALENDAR
