BEGIN:VCALENDAR
VERSION:2.0
PRODID:-//Sabre//Sabre VObject 4.5.8//EN
CALSCALE:GREGORIAN
BEGIN:VEVENT
UID:criticalmass-one-mannheim-1597584600
DTSTAMP:20260422T185944Z
SUMMARY:Kidical Mass Mannheim
DTSTART;TZID=Europe/Berlin:20200816T153000
DTEND;TZID=Europe/Berlin:20200816T173000
LOCATION:Wasserturm
GEO:49.483768;8.475738
URL;VALUE=URI:https://criticalmass.in/mannheim/kidical-mass-mannheim-august
 -2020
END:VEVENT
END:VCALENDAR
