BEGIN:VCALENDAR
VERSION:2.0
PRODID:-//Sabre//Sabre VObject 4.5.8//EN
CALSCALE:GREGORIAN
BEGIN:VEVENT
UID:criticalmass-one-mannheim-1763747100
DTSTAMP:20260423T100149Z
SUMMARY:Critical Mass Mannheim 21.11.2025
DTSTART;TZID=Europe/Berlin:20251121T184500
DTEND;TZID=Europe/Berlin:20251121T204500
LOCATION:Wasserturm Mannheim
GEO:49.484130;8.475351
URL;VALUE=URI:https://criticalmass.in/mannheim/2025-11-21
END:VEVENT
END:VCALENDAR
