BEGIN:VCALENDAR
VERSION:2.0
PRODID:-//Sabre//Sabre VObject 4.5.8//EN
CALSCALE:GREGORIAN
BEGIN:VEVENT
UID:criticalmass-one-mannheim-1758300300
DTSTAMP:20260421T210122Z
SUMMARY:Critical Mass Mannheim 19.09.2025
DTSTART;TZID=Europe/Berlin:20250919T184500
DTEND;TZID=Europe/Berlin:20250919T204500
LOCATION:Wasserturm Mannheim
GEO:49.484130;8.475351
URL;VALUE=URI:https://criticalmass.in/mannheim/2025-09-19
END:VEVENT
END:VCALENDAR
