BEGIN:VCALENDAR
VERSION:2.0
PRODID:-//Sabre//Sabre VObject 4.5.8//EN
CALSCALE:GREGORIAN
BEGIN:VEVENT
UID:criticalmass-one-mannheim-1747413900
DTSTAMP:20260424T232335Z
SUMMARY:Critical Mass Mannheim 16.05.2025
DTSTART;TZID=Europe/Berlin:20250516T184500
DTEND;TZID=Europe/Berlin:20250516T204500
LOCATION:Wasserturm Mannheim
GEO:49.484130;8.475351
URL;VALUE=URI:https://criticalmass.in/mannheim/2025-05-16
END:VEVENT
END:VCALENDAR
