BEGIN:VCALENDAR
VERSION:2.0
PRODID:-//Sabre//Sabre VObject 4.5.8//EN
CALSCALE:GREGORIAN
BEGIN:VEVENT
UID:criticalmass-one-mannheim-1744994700
DTSTAMP:20260425T152332Z
SUMMARY:Critical Mass Mannheim 18.04.2025
DTSTART;TZID=Europe/Berlin:20250418T184500
DTEND;TZID=Europe/Berlin:20250418T204500
LOCATION:Wasserturm Mannheim
GEO:49.484130;8.475351
URL;VALUE=URI:https://criticalmass.in/mannheim/2025-04-18
END:VEVENT
END:VCALENDAR
