BEGIN:VCALENDAR
VERSION:2.0
PRODID:-//Sabre//Sabre VObject 4.5.8//EN
CALSCALE:GREGORIAN
BEGIN:VEVENT
UID:criticalmass-one-mannheim-1740159900
DTSTAMP:20260425T151727Z
SUMMARY:Critical Mass Mannheim 21.02.2025
DTSTART;TZID=Europe/Berlin:20250221T184500
DTEND;TZID=Europe/Berlin:20250221T204500
LOCATION:Wasserturm Mannheim
GEO:49.484130;8.475351
URL;VALUE=URI:https://criticalmass.in/mannheim/2025-02-21
END:VEVENT
END:VCALENDAR
